BEGIN:VCALENDAR
VERSION:2.0
PRODID:-//Kinder- und Jugendgipfel - ECPv6.15.20//NONSGML v1.0//EN
CALSCALE:GREGORIAN
METHOD:PUBLISH
X-WR-CALNAME:Kinder- und Jugendgipfel
X-ORIGINAL-URL:https://kinder-jugendgipfel.de
X-WR-CALDESC:Veranstaltungen für Kinder- und Jugendgipfel
REFRESH-INTERVAL;VALUE=DURATION:PT1H
X-Robots-Tag:noindex
X-PUBLISHED-TTL:PT1H
BEGIN:VTIMEZONE
TZID:Europe/Berlin
BEGIN:DAYLIGHT
TZOFFSETFROM:+0100
TZOFFSETTO:+0200
TZNAME:CEST
DTSTART:20220327T010000
END:DAYLIGHT
BEGIN:STANDARD
TZOFFSETFROM:+0200
TZOFFSETTO:+0100
TZNAME:CET
DTSTART:20221030T010000
END:STANDARD
BEGIN:DAYLIGHT
TZOFFSETFROM:+0100
TZOFFSETTO:+0200
TZNAME:CEST
DTSTART:20230326T010000
END:DAYLIGHT
BEGIN:STANDARD
TZOFFSETFROM:+0200
TZOFFSETTO:+0100
TZNAME:CET
DTSTART:20231029T010000
END:STANDARD
BEGIN:DAYLIGHT
TZOFFSETFROM:+0100
TZOFFSETTO:+0200
TZNAME:CEST
DTSTART:20240331T010000
END:DAYLIGHT
BEGIN:STANDARD
TZOFFSETFROM:+0200
TZOFFSETTO:+0100
TZNAME:CET
DTSTART:20241027T010000
END:STANDARD
END:VTIMEZONE
BEGIN:VEVENT
DTSTART;TZID=Europe/Berlin:20230930T100000
DTEND;TZID=Europe/Berlin:20230930T170000
DTSTAMP:20260422T173421
CREATED:20230726T062402Z
LAST-MODIFIED:20230915T172743Z
UID:10000043-1696068000-1696093200@kinder-jugendgipfel.de
SUMMARY:Vote 16 (Sammeln von Unterschriften für das Volksbegehren zur Absenkung des Wahlalters) (1)
DESCRIPTION:
URL:https://kinder-jugendgipfel.de/event/vote-16-sammeln-von-unterschriften-fuer-das-volksbegehren-zur-absenkung-des-wahlalters-1/
LOCATION:Langemarckplatz\, Langemarckplatz 4\, Erlangen\, Bayern\, 91052\, Deutschland
END:VEVENT
BEGIN:VEVENT
DTSTART;TZID=Europe/Berlin:20230930T100000
DTEND;TZID=Europe/Berlin:20230930T160000
DTSTAMP:20260422T173421
CREATED:20230816T075126Z
LAST-MODIFIED:20230816T075126Z
UID:10000058-1696068000-1696089600@kinder-jugendgipfel.de
SUMMARY:(Traum-)Beruf – Mitmachen\, quizzen und informieren
DESCRIPTION:
URL:https://kinder-jugendgipfel.de/event/traum-beruf-mitmachen-quizzen-und-informieren/
LOCATION:Langemarckplatz\, Langemarckplatz 4\, Erlangen\, Bayern\, 91052\, Deutschland
END:VEVENT
BEGIN:VEVENT
DTSTART;TZID=Europe/Berlin:20230930T100000
DTEND;TZID=Europe/Berlin:20230930T160000
DTSTAMP:20260422T173421
CREATED:20230727T150606Z
LAST-MODIFIED:20230905T073412Z
UID:10000050-1696068000-1696089600@kinder-jugendgipfel.de
SUMMARY:Junge Familien in Erlangen - Was wünschen sich junge Familien in Erlangen?
DESCRIPTION:
URL:https://kinder-jugendgipfel.de/event/junge-familien-in-erlangen-was-wuenschen-sich-junge-familien-in-erlangen/
LOCATION:Langemarckplatz\, Langemarckplatz 4\, Erlangen\, Bayern\, 91052\, Deutschland
END:VEVENT
BEGIN:VEVENT
DTSTART;TZID=Europe/Berlin:20230930T100000
DTEND;TZID=Europe/Berlin:20230930T130000
DTSTAMP:20260422T173421
CREATED:20230919T064829Z
LAST-MODIFIED:20230919T064829Z
UID:10000073-1696068000-1696078800@kinder-jugendgipfel.de
SUMMARY:Raumgestaltung und Verfügbarkeit in Erlangen für Vereine – Mitmach-Akrobatik für Kinder und Jugendliche
DESCRIPTION:Um 11:30 Uhr findet eine Aufführung der Teens-Gruppe statt bei der das akrobatische Können unter Beweis gestellt wird.
URL:https://kinder-jugendgipfel.de/event/raumgestaltung-und-verfuegbarkeit-in-erlangen-fuer-vereine-mitmach-akrobatik-fuer-kinder-und-jugendliche/
LOCATION:Langemarckplatz\, Langemarckplatz 4\, Erlangen\, Bayern\, 91052\, Deutschland
END:VEVENT
BEGIN:VEVENT
DTSTART;TZID=Europe/Berlin:20230930T090000
DTEND;TZID=Europe/Berlin:20230930T200000
DTSTAMP:20260422T173421
CREATED:20230727T150457Z
LAST-MODIFIED:20230727T150457Z
UID:10000049-1696064400-1696104000@kinder-jugendgipfel.de
SUMMARY:Junge Kirche in Erlangen
DESCRIPTION:In Erlangen wird angestrebt eine „Jugendkirche“ ins Leben zu rufen. Es gibt dazu bereits eine Arbeitsgruppe. Wie sich das in Erlangen gestalten lässt\, sowohl räumlich als auch inhaltlich muss noch erarbeitet werden. Die Bedürfnisse der Jugendlichen sollen hier abgefragt werden. Wie muss Kirche sein\, dass du (Jugendliche) hin gehst?
URL:https://kinder-jugendgipfel.de/event/junge-kirche-in-erlangen/
LOCATION:Langemarckplatz\, Langemarckplatz 4\, Erlangen\, Bayern\, 91052\, Deutschland
END:VEVENT
BEGIN:VEVENT
DTSTART;TZID=Europe/Berlin:20230930T080000
DTEND;TZID=Europe/Berlin:20230930T170000
DTSTAMP:20260422T173421
CREATED:20230807T100016Z
LAST-MODIFIED:20230912T124753Z
UID:10000053-1696060800-1696093200@kinder-jugendgipfel.de
SUMMARY:Qualitative Befragung von Jugendlichen im Alter von 14-18 Jahren zum Freizeitverhalten in der Stadt Erlangen (3)
DESCRIPTION:
URL:https://kinder-jugendgipfel.de/event/qualitative-befragung-von-jugendlichen-im-alter-von-10-18-jahren-zum-freizeitverhalten-in-der-stadt-erlangen-3/
LOCATION:Langemarckplatz\, Langemarckplatz 4\, Erlangen\, Bayern\, 91052\, Deutschland
END:VEVENT
BEGIN:VEVENT
DTSTART;TZID=Europe/Berlin:20230930T080000
DTEND;TZID=Europe/Berlin:20230930T170000
DTSTAMP:20260422T173421
CREATED:20230606T115634Z
LAST-MODIFIED:20230606T115634Z
UID:10000017-1696060800-1696093200@kinder-jugendgipfel.de
SUMMARY:Freizeit\, Sportmöglichkeiten\, Bewegung (1)
DESCRIPTION:
URL:https://kinder-jugendgipfel.de/event/freizeit-sportmoeglichkeiten-bewegung-1/
LOCATION:Langemarckplatz\, Langemarckplatz 4\, Erlangen\, Bayern\, 91052\, Deutschland
END:VEVENT
BEGIN:VEVENT
DTSTART;TZID=Europe/Berlin:20230930T080000
DTEND;TZID=Europe/Berlin:20230930T170000
DTSTAMP:20260422T173421
CREATED:20230606T092650Z
LAST-MODIFIED:20230606T092650Z
UID:10000005-1696060800-1696093200@kinder-jugendgipfel.de
SUMMARY:Spielkonsole zum Mitmachen
DESCRIPTION:
URL:https://kinder-jugendgipfel.de/event/spielkonsole-zum-mitmachen/
LOCATION:Langemarckplatz\, Langemarckplatz 4\, Erlangen\, Bayern\, 91052\, Deutschland
END:VEVENT
BEGIN:VEVENT
DTSTART;TZID=Europe/Berlin:20230930T080000
DTEND;TZID=Europe/Berlin:20230930T170000
DTSTAMP:20260422T173421
CREATED:20230606T092622Z
LAST-MODIFIED:20230606T092622Z
UID:10000004-1696060800-1696093200@kinder-jugendgipfel.de
SUMMARY:Glücksrad
DESCRIPTION:
URL:https://kinder-jugendgipfel.de/event/gluecksrad/
LOCATION:Langemarckplatz\, Langemarckplatz 4\, Erlangen\, Bayern\, 91052\, Deutschland
END:VEVENT
BEGIN:VEVENT
DTSTART;TZID=Europe/Berlin:20230929T190000
DTEND;TZID=Europe/Berlin:20230929T203000
DTSTAMP:20260422T173421
CREATED:20230829T151018Z
LAST-MODIFIED:20230829T151018Z
UID:10000063-1696014000-1696019400@kinder-jugendgipfel.de
SUMMARY:Stadtspaziergang durch Erlangen zum Thema Inklusion mit Jugendlichen 16 Jahre und älter
DESCRIPTION:
URL:https://kinder-jugendgipfel.de/event/stadtspaziergang-durch-erlangen-zum-thema-inklusion-mit-jugendlichen-16-jahre-und-aelter/
LOCATION:Langemarckplatz\, Langemarckplatz 4\, Erlangen\, Bayern\, 91052\, Deutschland
END:VEVENT
BEGIN:VEVENT
DTSTART;TZID=Europe/Berlin:20230929T180000
DTEND;TZID=Europe/Berlin:20230929T190000
DTSTAMP:20260422T173421
CREATED:20230727T061022Z
LAST-MODIFIED:20230915T172737Z
UID:10000046-1696010400-1696014000@kinder-jugendgipfel.de
SUMMARY:Offizielle Eröffnung des ersten Kinder- und Jugendgipfels
DESCRIPTION:
URL:https://kinder-jugendgipfel.de/event/offizielle-eroeffnung-des-ersten-kinder-und-jugendgipfels/
LOCATION:Langemarckplatz\, Langemarckplatz 4\, Erlangen\, Bayern\, 91052\, Deutschland
END:VEVENT
BEGIN:VEVENT
DTSTART;TZID=Europe/Berlin:20230929T173000
DTEND;TZID=Europe/Berlin:20230929T200000
DTSTAMP:20260422T173421
CREATED:20230807T095740Z
LAST-MODIFIED:20230912T125927Z
UID:10000052-1696008600-1696017600@kinder-jugendgipfel.de
SUMMARY:Qualitative Befragung von Jugendlichen im Alter von 14-18 Jahren zum Freizeitverhalten in der Stadt Erlangen (2)
DESCRIPTION:
URL:https://kinder-jugendgipfel.de/event/qualitative-befragung-von-jugendlichen-im-alter-von-10-18-jahren-zum-freizeitverhalten-in-der-stadt-erlangen-2/
LOCATION:Langemarckplatz\, Langemarckplatz 4\, Erlangen\, Bayern\, 91052\, Deutschland
END:VEVENT
BEGIN:VEVENT
DTSTART;TZID=Europe/Berlin:20230929T110000
DTEND;TZID=Europe/Berlin:20230929T170000
DTSTAMP:20260422T173421
CREATED:20230807T100128Z
LAST-MODIFIED:20230809T085210Z
UID:10000054-1695985200-1696006800@kinder-jugendgipfel.de
SUMMARY:Verkehrsplanung/ÖPNV: Gestalte ein Erlangen mit Stadt-Umland-Bahn - das Erlangen von morgen!
DESCRIPTION:
URL:https://kinder-jugendgipfel.de/event/verkehrsplanung-oepnv-gestalte-ein-erlangen-mit-stadt-umland-bahn-das-erlangen-von-morgen/
LOCATION:Langemarckplatz\, Langemarckplatz 4\, Erlangen\, Bayern\, 91052\, Deutschland
END:VEVENT
END:VCALENDAR