BEGIN:VCALENDAR
VERSION:2.0
PRODID:-//Kinder- und Jugendgipfel - ECPv6.15.20//NONSGML v1.0//EN
CALSCALE:GREGORIAN
METHOD:PUBLISH
X-ORIGINAL-URL:https://kinder-jugendgipfel.de
X-WR-CALDESC:Veranstaltungen für Kinder- und Jugendgipfel
REFRESH-INTERVAL;VALUE=DURATION:PT1H
X-Robots-Tag:noindex
X-PUBLISHED-TTL:PT1H
BEGIN:VTIMEZONE
TZID:Europe/Berlin
BEGIN:DAYLIGHT
TZOFFSETFROM:+0100
TZOFFSETTO:+0200
TZNAME:CEST
DTSTART:20220327T010000
END:DAYLIGHT
BEGIN:STANDARD
TZOFFSETFROM:+0200
TZOFFSETTO:+0100
TZNAME:CET
DTSTART:20221030T010000
END:STANDARD
BEGIN:DAYLIGHT
TZOFFSETFROM:+0100
TZOFFSETTO:+0200
TZNAME:CEST
DTSTART:20230326T010000
END:DAYLIGHT
BEGIN:STANDARD
TZOFFSETFROM:+0200
TZOFFSETTO:+0100
TZNAME:CET
DTSTART:20231029T010000
END:STANDARD
BEGIN:DAYLIGHT
TZOFFSETFROM:+0100
TZOFFSETTO:+0200
TZNAME:CEST
DTSTART:20240331T010000
END:DAYLIGHT
BEGIN:STANDARD
TZOFFSETFROM:+0200
TZOFFSETTO:+0100
TZNAME:CET
DTSTART:20241027T010000
END:STANDARD
END:VTIMEZONE
BEGIN:VEVENT
DTSTART;TZID=Europe/Berlin:20230930T140000
DTEND;TZID=Europe/Berlin:20230930T223000
DTSTAMP:20260422T213853
CREATED:20230606T115911Z
LAST-MODIFIED:20230615T140249Z
UID:10000019-1696082400-1696113000@kinder-jugendgipfel.de
SUMMARY:Jugend-/Subkultur: Hip-Hop-Open Air
DESCRIPTION:
URL:https://kinder-jugendgipfel.de/event/jugend-subkultur-hip-hop-open-air/
LOCATION:Jugendhaus West\, Büchenbach\, Donato-Polli-Straße 1\, 91056 Erlangen\, Erlangen\, Bayern\, 91052\, Deutschland
END:VEVENT
BEGIN:VEVENT
DTSTART;TZID=Europe/Berlin:20230930T140000
DTEND;TZID=Europe/Berlin:20230930T180000
DTSTAMP:20260422T213853
CREATED:20230915T172456Z
LAST-MODIFIED:20230915T172456Z
UID:10000072-1696082400-1696096800@kinder-jugendgipfel.de
SUMMARY:Sport- und Bewegungsmöglichkeiten in Büchenbach für Kinder und Jugendliche
DESCRIPTION:Planung und Umgestaltung von Bolzplätzen in Büchenbach – Sport- und Bewegungsangebote kostenlos und ohne Anmeldung \nKennt Ihr den Bolzplatz Am Adenauerring? Was muss auf dem Platz passieren\, dass Du da hingehst? Wie kann das ein Platz für Kinder und Jugendliche sein und werden? Deine Möglichkeit mitzumachen und zu gestalten
URL:https://kinder-jugendgipfel.de/event/sport-und-bewegungsmoeglichkeiten-in-buechenbach-fuer-kinder-und-jugendliche/
LOCATION:Jugendhaus West\, Büchenbach\, Donato-Polli-Straße 1\, 91056 Erlangen\, Erlangen\, Bayern\, 91052\, Deutschland
END:VEVENT
END:VCALENDAR