BEGIN:VCALENDAR
VERSION:2.0
PRODID:-//Kinder- und Jugendgipfel - ECPv6.15.20//NONSGML v1.0//EN
CALSCALE:GREGORIAN
METHOD:PUBLISH
X-WR-CALNAME:Kinder- und Jugendgipfel
X-ORIGINAL-URL:https://kinder-jugendgipfel.de
X-WR-CALDESC:Veranstaltungen für Kinder- und Jugendgipfel
REFRESH-INTERVAL;VALUE=DURATION:PT1H
X-Robots-Tag:noindex
X-PUBLISHED-TTL:PT1H
BEGIN:VTIMEZONE
TZID:Europe/Berlin
BEGIN:DAYLIGHT
TZOFFSETFROM:+0100
TZOFFSETTO:+0200
TZNAME:CEST
DTSTART:20220327T010000
END:DAYLIGHT
BEGIN:STANDARD
TZOFFSETFROM:+0200
TZOFFSETTO:+0100
TZNAME:CET
DTSTART:20221030T010000
END:STANDARD
BEGIN:DAYLIGHT
TZOFFSETFROM:+0100
TZOFFSETTO:+0200
TZNAME:CEST
DTSTART:20230326T010000
END:DAYLIGHT
BEGIN:STANDARD
TZOFFSETFROM:+0200
TZOFFSETTO:+0100
TZNAME:CET
DTSTART:20231029T010000
END:STANDARD
BEGIN:DAYLIGHT
TZOFFSETFROM:+0100
TZOFFSETTO:+0200
TZNAME:CEST
DTSTART:20240331T010000
END:DAYLIGHT
BEGIN:STANDARD
TZOFFSETFROM:+0200
TZOFFSETTO:+0100
TZNAME:CET
DTSTART:20241027T010000
END:STANDARD
END:VTIMEZONE
BEGIN:VEVENT
DTSTART;TZID=Europe/Berlin:20231001T110000
DTEND;TZID=Europe/Berlin:20231001T150000
DTSTAMP:20260422T212016
CREATED:20230615T140007Z
LAST-MODIFIED:20230809T084813Z
UID:10000035-1696158000-1696172400@kinder-jugendgipfel.de
SUMMARY:"Bau mit! " - Gestalte mit LEGO®  deinen Platz der Kinderrechte (3)
DESCRIPTION:
URL:https://kinder-jugendgipfel.de/event/ideensammlung-mit-lego-zu-einem-platz-der-kinderrechte-in-erlangen-3/
LOCATION:CVJM Erlangen\, Südliche Stadtmauerstraße 21\, Erlangen\, Bayern\, 91054\, Deutschland
END:VEVENT
BEGIN:VEVENT
DTSTART;TZID=Europe/Berlin:20230930T110000
DTEND;TZID=Europe/Berlin:20230930T170000
DTSTAMP:20260422T212016
CREATED:20230906T080537Z
LAST-MODIFIED:20230906T150213Z
UID:10000071-1696071600-1696093200@kinder-jugendgipfel.de
SUMMARY:Freizeit
DESCRIPTION:In chilliger Atmosphäre möchten wir im Café mit euch über die Wünsche für künftige Freizeit/Feriengestaltung ins Gespräch kommen und die Ergebnisse sollen in die konkreten Jahresplanungen mit aufgenommen werden.
URL:https://kinder-jugendgipfel.de/event/freizeit/
LOCATION:CVJM Erlangen\, Südliche Stadtmauerstraße 21\, Erlangen\, Bayern\, 91054\, Deutschland
END:VEVENT
BEGIN:VEVENT
DTSTART;TZID=Europe/Berlin:20230930T100000
DTEND;TZID=Europe/Berlin:20230930T140000
DTSTAMP:20260422T212016
CREATED:20230615T135935Z
LAST-MODIFIED:20230809T084815Z
UID:10000034-1696068000-1696082400@kinder-jugendgipfel.de
SUMMARY:"Bau mit! " - Gestalte mit LEGO®  deinen Platz der Kinderrechte (2)
DESCRIPTION:
URL:https://kinder-jugendgipfel.de/event/ideensammlung-mit-lego-zu-einem-platz-der-kinderrechte-in-erlangen-2/
LOCATION:CVJM Erlangen\, Südliche Stadtmauerstraße 21\, Erlangen\, Bayern\, 91054\, Deutschland
END:VEVENT
BEGIN:VEVENT
DTSTART;TZID=Europe/Berlin:20230929T150000
DTEND;TZID=Europe/Berlin:20230929T190000
DTSTAMP:20260422T212016
CREATED:20230606T095603Z
LAST-MODIFIED:20230809T084752Z
UID:10000014-1695999600-1696014000@kinder-jugendgipfel.de
SUMMARY:"Bau mit! " - Gestalte mit LEGO®  deinen Platz der Kinderrechte (1)
DESCRIPTION:
URL:https://kinder-jugendgipfel.de/event/ideensammlung-zur-etablierung-und-ausgestaltung-eines-platzes-der-kinderrechte-in-erlangen-durch-kinder-und-jugendliche/
LOCATION:CVJM Erlangen\, Südliche Stadtmauerstraße 21\, Erlangen\, Bayern\, 91054\, Deutschland
END:VEVENT
END:VCALENDAR