BEGIN:VCALENDAR
VERSION:2.0
PRODID:-//Kinder- und Jugendgipfel - ECPv6.15.20//NONSGML v1.0//EN
CALSCALE:GREGORIAN
METHOD:PUBLISH
X-WR-CALNAME:Kinder- und Jugendgipfel
X-ORIGINAL-URL:https://kinder-jugendgipfel.de
X-WR-CALDESC:Veranstaltungen für Kinder- und Jugendgipfel
REFRESH-INTERVAL;VALUE=DURATION:PT1H
X-Robots-Tag:noindex
X-PUBLISHED-TTL:PT1H
BEGIN:VTIMEZONE
TZID:Europe/Berlin
BEGIN:DAYLIGHT
TZOFFSETFROM:+0100
TZOFFSETTO:+0200
TZNAME:CEST
DTSTART:20220327T010000
END:DAYLIGHT
BEGIN:STANDARD
TZOFFSETFROM:+0200
TZOFFSETTO:+0100
TZNAME:CET
DTSTART:20221030T010000
END:STANDARD
BEGIN:DAYLIGHT
TZOFFSETFROM:+0100
TZOFFSETTO:+0200
TZNAME:CEST
DTSTART:20230326T010000
END:DAYLIGHT
BEGIN:STANDARD
TZOFFSETFROM:+0200
TZOFFSETTO:+0100
TZNAME:CET
DTSTART:20231029T010000
END:STANDARD
BEGIN:DAYLIGHT
TZOFFSETFROM:+0100
TZOFFSETTO:+0200
TZNAME:CEST
DTSTART:20240331T010000
END:DAYLIGHT
BEGIN:STANDARD
TZOFFSETFROM:+0200
TZOFFSETTO:+0100
TZNAME:CET
DTSTART:20241027T010000
END:STANDARD
END:VTIMEZONE
BEGIN:VEVENT
DTSTART;TZID=Europe/Berlin:20230930T090000
DTEND;TZID=Europe/Berlin:20230930T140000
DTSTAMP:20260423T000806
CREATED:20230606T092836Z
LAST-MODIFIED:20230620T131939Z
UID:10000007-1696064400-1696082400@kinder-jugendgipfel.de
SUMMARY:Umwelt: refurbished PC – aus alt mach neu
DESCRIPTION:
URL:https://kinder-jugendgipfel.de/event/umwelt-refurbished-pc-aus-alt-mach-neu/
LOCATION:Umladestation am Hafen\, Am Hafen 5A\, Erlangen\, Bayern\, 91056
END:VEVENT
END:VCALENDAR