BEGIN:VCALENDAR
VERSION:2.0
PRODID:-//Kinder- und Jugendgipfel - ECPv6.15.20//NONSGML v1.0//EN
CALSCALE:GREGORIAN
METHOD:PUBLISH
X-WR-CALNAME:Kinder- und Jugendgipfel
X-ORIGINAL-URL:https://kinder-jugendgipfel.de
X-WR-CALDESC:Veranstaltungen für Kinder- und Jugendgipfel
REFRESH-INTERVAL;VALUE=DURATION:PT1H
X-Robots-Tag:noindex
X-PUBLISHED-TTL:PT1H
BEGIN:VTIMEZONE
TZID:Europe/Berlin
BEGIN:DAYLIGHT
TZOFFSETFROM:+0100
TZOFFSETTO:+0200
TZNAME:CEST
DTSTART:20220327T010000
END:DAYLIGHT
BEGIN:STANDARD
TZOFFSETFROM:+0200
TZOFFSETTO:+0100
TZNAME:CET
DTSTART:20221030T010000
END:STANDARD
BEGIN:DAYLIGHT
TZOFFSETFROM:+0100
TZOFFSETTO:+0200
TZNAME:CEST
DTSTART:20230326T010000
END:DAYLIGHT
BEGIN:STANDARD
TZOFFSETFROM:+0200
TZOFFSETTO:+0100
TZNAME:CET
DTSTART:20231029T010000
END:STANDARD
BEGIN:DAYLIGHT
TZOFFSETFROM:+0100
TZOFFSETTO:+0200
TZNAME:CEST
DTSTART:20240331T010000
END:DAYLIGHT
BEGIN:STANDARD
TZOFFSETFROM:+0200
TZOFFSETTO:+0100
TZNAME:CET
DTSTART:20241027T010000
END:STANDARD
END:VTIMEZONE
BEGIN:VEVENT
DTSTART;TZID=Europe/Berlin:20230929T170000
DTEND;TZID=Europe/Berlin:20230929T183000
DTSTAMP:20260422T161815
CREATED:20230620T132808Z
LAST-MODIFIED:20230620T132808Z
UID:10000039-1696006800-1696012200@kinder-jugendgipfel.de
SUMMARY:Kennst du deine Rechte? (Workshop 2\, 13-16 Jahre\, Anmeldung nötig)
DESCRIPTION:Im Rahmen des Erlanger Kinder- und Jugendgipfels bietet das Theater zusammen mit der Kinderschutzbund Erlangen zwei Theaterworkshops für unterschiedliche Altersgruppen. Spielerisch entwickeln wir zusammen Mini-Szenen zum Thema „Kinderrechte“. Denn nur wer seine Rechte kennt\, kann sich auch dafür stark machen. \nAnmeldung: DKSBErlangen@web.de oder Tel:  09131 / 20 91 00
URL:https://kinder-jugendgipfel.de/event/kennst-du-deine-rechte-workshop-2-13-16-jahre-anmeldung-noetig/
LOCATION:Foyercafé Theater Erlangen\, Theaterplatz 2\, Erlangen\, Bayern\, 91054\, Deutschland
END:VEVENT
BEGIN:VEVENT
DTSTART;TZID=Europe/Berlin:20230929T150000
DTEND;TZID=Europe/Berlin:20230929T163000
DTSTAMP:20260422T161815
CREATED:20230606T120509Z
LAST-MODIFIED:20230620T132827Z
UID:10000022-1695999600-1696005000@kinder-jugendgipfel.de
SUMMARY:Kennst du deine Rechte? (Workshop 1\, 10-13 Jahre\, Anmeldung nötig)
DESCRIPTION:Im Rahmen des Erlanger Kinder- und Jugendgipfels bietet das Theater zusammen mit der Kinderschutzbund Erlangen zwei Theaterworkshops für unterschiedliche Altersgruppen. Spielerisch entwickeln wir zusammen Mini-Szenen zum Thema „Kinderrechte“. Denn nur wer seine Rechte kennt\, kann sich auch dafür stark machen. \nAnmeldung: DKSBErlangen@web.de oder Tel:  09131 / 20 91 00
URL:https://kinder-jugendgipfel.de/event/szenisches-spiel-und-erleben-mit-den-theaterbus-otokar/
LOCATION:Foyercafé Theater Erlangen\, Theaterplatz 2\, Erlangen\, Bayern\, 91054\, Deutschland
END:VEVENT
END:VCALENDAR